Package: SMITE Version: 1.37.0 Command: rm -rf SMITE.buildbin-libdir && mkdir SMITE.buildbin-libdir && /Users/biocbuild/BBS/utils/build-universal.sh SMITE_1.37.0.tar.gz /Library/Frameworks/R.framework/Resources/bin/R SMITE.buildbin-libdir StartedAt: 2025-07-14 22:35:53 -0400 (Mon, 14 Jul 2025) EndedAt: 2025-07-14 22:36:13 -0400 (Mon, 14 Jul 2025) EllapsedTime: 20.4 seconds RetCode: 0 Status: OK PackageFile: SMITE_1.37.0.tgz PackageFileSize: 3.612 MiB