Package: SIMLR Version: 1.35.0 Command: F:\biocbuild\bbs-3.22-bioc\R\bin\R.exe CMD check --no-multiarch --install=check:SIMLR.install-out.txt --library=F:\biocbuild\bbs-3.22-bioc\R\library --no-vignettes --timings SIMLR_1.35.0.tar.gz StartedAt: 2025-07-14 06:41:12 -0400 (Mon, 14 Jul 2025) EndedAt: 2025-07-14 06:47:25 -0400 (Mon, 14 Jul 2025) EllapsedTime: 373.2 seconds RetCode: 0 Status: OK CheckDir: SIMLR.Rcheck Warnings: 0