Package: SIMD Version: 1.27.0 Command: /home/biocbuild/R/R/bin/R CMD build --keep-empty-dirs --no-resave-data SIMD StartedAt: 2025-07-15 03:01:22 -0000 (Tue, 15 Jul 2025) EndedAt: 2025-07-15 03:01:34 -0000 (Tue, 15 Jul 2025) EllapsedTime: 12.0 seconds RetCode: 0 Status: OK PackageFile: SIMD_1.27.0.tar.gz PackageFileSize: 356.3 KiB