Package: SIMD Version: 1.27.0 Command: F:\biocbuild\bbs-3.22-bioc\R\bin\R.exe CMD INSTALL SIMD StartedAt: 2025-07-13 15:30:47 -0400 (Sun, 13 Jul 2025) EndedAt: 2025-07-13 15:30:58 -0400 (Sun, 13 Jul 2025) EllapsedTime: 10.5 seconds RetCode: 0 Status: OK