Package: SIMD Version: 1.27.0 Command: F:\biocbuild\bbs-3.22-bioc\R\bin\R.exe CMD check --no-multiarch --install=check:SIMD.install-out.txt --library=F:\biocbuild\bbs-3.22-bioc\R\library --no-vignettes --timings SIMD_1.27.0.tar.gz StartedAt: 2025-07-14 06:40:40 -0400 (Mon, 14 Jul 2025) EndedAt: 2025-07-14 06:41:15 -0400 (Mon, 14 Jul 2025) EllapsedTime: 35.0 seconds RetCode: 0 Status: OK CheckDir: SIMD.Rcheck Warnings: 0