Package: SIMD Version: 1.27.0 Command: rm -rf SIMD.buildbin-libdir && mkdir SIMD.buildbin-libdir && F:\biocbuild\bbs-3.22-bioc\R\bin\R.exe CMD INSTALL --build --library=SIMD.buildbin-libdir SIMD_1.27.0.tar.gz StartedAt: 2025-07-14 10:00:48 -0400 (Mon, 14 Jul 2025) EndedAt: 2025-07-14 10:00:58 -0400 (Mon, 14 Jul 2025) EllapsedTime: 10.7 seconds RetCode: 0 Status: OK PackageFile: SIMD_1.27.0.zip PackageFileSize: 364.1 KiB