Package: SIMAT Version: 1.41.0 Command: /home/biocbuild/R/R/bin/R CMD check --install=check:SIMAT.install-out.txt --library=/home/biocbuild/R/R/site-library --no-vignettes --timings SIMAT_1.41.0.tar.gz StartedAt: 2025-07-15 11:53:21 -0000 (Tue, 15 Jul 2025) EndedAt: 2025-07-15 11:54:37 -0000 (Tue, 15 Jul 2025) EllapsedTime: 76.1 seconds RetCode: 0 Status: OK CheckDir: SIMAT.Rcheck Warnings: 0