Package: SIMAT Version: 1.41.0 Command: F:\biocbuild\bbs-3.22-bioc\R\bin\R.exe CMD INSTALL SIMAT StartedAt: 2025-07-01 15:47:20 -0400 (Tue, 01 Jul 2025) EndedAt: 2025-07-01 15:47:42 -0400 (Tue, 01 Jul 2025) EllapsedTime: 22.5 seconds RetCode: 0 Status: OK