Package: SIMAT Version: 1.41.0 Command: chmod a+r SIMAT -R && F:\biocbuild\bbs-3.22-bioc\R\bin\R.exe CMD build --keep-empty-dirs --no-resave-data SIMAT StartedAt: 2025-07-01 22:07:02 -0400 (Tue, 01 Jul 2025) EndedAt: 2025-07-01 22:07:41 -0400 (Tue, 01 Jul 2025) EllapsedTime: 38.6 seconds RetCode: 0 Status: OK PackageFile: SIMAT_1.41.0.tar.gz PackageFileSize: 1002 KiB