Package: SIMAT Version: 1.41.0 Command: rm -rf SIMAT.buildbin-libdir && mkdir SIMAT.buildbin-libdir && F:\biocbuild\bbs-3.22-bioc\R\bin\R.exe CMD INSTALL --build --library=SIMAT.buildbin-libdir SIMAT_1.41.0.tar.gz StartedAt: 2025-07-02 09:55:37 -0400 (Wed, 02 Jul 2025) EndedAt: 2025-07-02 09:55:54 -0400 (Wed, 02 Jul 2025) EllapsedTime: 16.4 seconds RetCode: 0 Status: OK PackageFile: SIMAT_1.41.0.zip PackageFileSize: 1.073 MiB