Package: SIAMCAT Version: 2.13.0 Command: /Library/Frameworks/R.framework/Resources/bin/R CMD INSTALL SIAMCAT StartedAt: 2025-10-16 15:21:02 -0400 (Thu, 16 Oct 2025) EndedAt: 2025-10-16 15:21:13 -0400 (Thu, 16 Oct 2025) EllapsedTime: 11.4 seconds RetCode: 0 Status: OK