Package: SGSeq Version: 1.43.0 Command: F:\biocbuild\bbs-3.22-bioc\R\bin\R.exe CMD INSTALL SGSeq StartedAt: 2025-07-18 16:00:34 -0400 (Fri, 18 Jul 2025) EndedAt: 2025-07-18 16:02:08 -0400 (Fri, 18 Jul 2025) EllapsedTime: 94.1 seconds RetCode: 0 Status: OK