Package: SGSeq Version: 1.43.0 Command: /home/biocbuild/bbs-3.22-bioc/R/bin/R CMD check --install=check:SGSeq.install-out.txt --library=/home/biocbuild/bbs-3.22-bioc/R/site-library --timings SGSeq_1.43.0.tar.gz StartedAt: 2025-06-21 02:25:56 -0400 (Sat, 21 Jun 2025) EndedAt: 2025-06-21 02:37:27 -0400 (Sat, 21 Jun 2025) EllapsedTime: 690.7 seconds RetCode: 0 Status: OK CheckDir: SGSeq.Rcheck Warnings: 0