Package: SGSeq Version: 1.43.0 Command: /Library/Frameworks/R.framework/Resources/bin/R CMD build --keep-empty-dirs --no-resave-data SGSeq StartedAt: 2025-07-17 18:24:58 -0400 (Thu, 17 Jul 2025) EndedAt: 2025-07-17 18:25:57 -0400 (Thu, 17 Jul 2025) EllapsedTime: 58.3 seconds RetCode: 1 Status: ERROR PackageFile: None PackageFileSize: NA