Package: SGSeq Version: 1.43.0 Command: /Library/Frameworks/R.framework/Resources/bin/R CMD check --install=check:SGSeq.install-out.txt --library=/Library/Frameworks/R.framework/Resources/library --no-vignettes --timings SGSeq_1.43.0.tar.gz StartedAt: 2025-06-20 21:22:49 -0400 (Fri, 20 Jun 2025) EndedAt: 2025-06-20 21:25:53 -0400 (Fri, 20 Jun 2025) EllapsedTime: 184.4 seconds RetCode: 0 Status: OK CheckDir: SGSeq.Rcheck Warnings: 0