Package: SGSeq Version: 1.43.0 Command: rm -rf SGSeq.buildbin-libdir && mkdir SGSeq.buildbin-libdir && /Users/biocbuild/BBS/utils/build-universal.sh SGSeq_1.43.0.tar.gz /Library/Frameworks/R.framework/Resources/bin/R SGSeq.buildbin-libdir StartedAt: 2025-06-20 22:34:22 -0400 (Fri, 20 Jun 2025) EndedAt: 2025-06-20 22:34:39 -0400 (Fri, 20 Jun 2025) EllapsedTime: 17.3 seconds RetCode: 0 Status: OK PackageFile: SGSeq_1.43.0.tgz PackageFileSize: 1.783 MiB