Package: SGCP Version: 1.9.0 Command: /home/biocbuild/R/R/bin/R CMD INSTALL SGCP StartedAt: 2025-06-30 21:10:55 -0000 (Mon, 30 Jun 2025) EndedAt: 2025-06-30 21:12:04 -0000 (Mon, 30 Jun 2025) EllapsedTime: 69.0 seconds RetCode: 0 Status: OK