Package: SGCP Version: 1.9.0 Command: /home/biocbuild/R/R/bin/R CMD build --keep-empty-dirs --no-resave-data SGCP StartedAt: 2025-07-01 02:57:30 -0000 (Tue, 01 Jul 2025) EndedAt: 2025-07-01 03:02:42 -0000 (Tue, 01 Jul 2025) EllapsedTime: 311.5 seconds RetCode: 0 Status: OK PackageFile: SGCP_1.9.0.tar.gz PackageFileSize: 1.711 MiB