Package: SGCP Version: 1.9.0 Command: /Library/Frameworks/R.framework/Resources/bin/R CMD INSTALL SGCP StartedAt: 2025-10-03 15:35:04 -0400 (Fri, 03 Oct 2025) EndedAt: 2025-10-03 15:36:19 -0400 (Fri, 03 Oct 2025) EllapsedTime: 75.3 seconds RetCode: 0 Status: OK