Package: SGCP Version: 1.9.0 Command: rm -rf SGCP.buildbin-libdir && mkdir SGCP.buildbin-libdir && /Users/biocbuild/BBS/utils/build-universal.sh SGCP_1.9.0.tar.gz /Library/Frameworks/R.framework/Resources/bin/R SGCP.buildbin-libdir StartedAt: 2025-09-11 02:33:58 -0400 (Thu, 11 Sep 2025) EndedAt: 2025-09-11 02:35:13 -0400 (Thu, 11 Sep 2025) EllapsedTime: 75.0 seconds RetCode: 0 Status: OK PackageFile: SGCP_1.9.0.tgz PackageFileSize: 4.038 MiB