Package: SGCP Version: 1.9.0 Command: /Library/Frameworks/R.framework/Resources/bin/R CMD build --keep-empty-dirs --no-resave-data SGCP StartedAt: 2025-07-02 17:34:16 -0400 (Wed, 02 Jul 2025) EndedAt: 2025-07-02 17:35:03 -0400 (Wed, 02 Jul 2025) EllapsedTime: 46.5 seconds RetCode: 0 Status: OK PackageFile: SGCP_1.9.0.tar.gz PackageFileSize: 2.69 MiB