Package: SEraster Version: 1.1.0 Command: chmod a+r SEraster -R && F:\biocbuild\bbs-3.22-bioc\R\bin\R.exe CMD build --keep-empty-dirs --no-resave-data SEraster StartedAt: 2025-07-24 22:18:14 -0400 (Thu, 24 Jul 2025) EndedAt: 2025-07-24 22:26:51 -0400 (Thu, 24 Jul 2025) EllapsedTime: 516.9 seconds RetCode: 0 Status: OK PackageFile: SEraster_1.1.0.tar.gz PackageFileSize: 2.313 MiB