Package: SEraster Version: 1.1.0 Command: /Library/Frameworks/R.framework/Resources/bin/R CMD build --keep-empty-dirs --no-resave-data SEraster StartedAt: 2025-07-21 17:33:39 -0400 (Mon, 21 Jul 2025) EndedAt: 2025-07-21 17:36:30 -0400 (Mon, 21 Jul 2025) EllapsedTime: 171.0 seconds RetCode: 0 Status: OK PackageFile: SEraster_1.1.0.tar.gz PackageFileSize: 3.167 MiB