Package: SEraster Version: 1.1.0 Command: rm -rf SEraster.buildbin-libdir && mkdir SEraster.buildbin-libdir && /Users/biocbuild/BBS/utils/build-universal.sh SEraster_1.1.0.tar.gz /Library/Frameworks/R.framework/Resources/bin/R SEraster.buildbin-libdir StartedAt: 2025-07-21 22:41:34 -0400 (Mon, 21 Jul 2025) EndedAt: 2025-07-21 22:41:46 -0400 (Mon, 21 Jul 2025) EllapsedTime: 12.3 seconds RetCode: 0 Status: OK PackageFile: SEraster_1.1.0.tgz PackageFileSize: 3.204 MiB