############################################################################## ############################################################################## ### ### Running command: ### ### rm -rf SEraster.buildbin-libdir && mkdir SEraster.buildbin-libdir && /Users/biocbuild/BBS/utils/build-universal.sh SEraster_1.1.0.tar.gz /Library/Frameworks/R.framework/Resources/bin/R SEraster.buildbin-libdir ### ############################################################################## ############################################################################## >>>>>>> >>>>>>> INSTALLATION WITH 'R CMD INSTALL --preclean --no-multiarch --library=SEraster.buildbin-libdir SEraster_1.1.0.tar.gz' >>>>>>> * installing *source* package ‘SEraster’ ... ** this is package ‘SEraster’ version ‘1.1.0’ ** using staged installation ** R ** data ** inst ** byte-compile and prepare package for lazy loading ** help *** installing help indices ** building package indices ** installing vignettes ** testing if installed package can be loaded from temporary location ** testing if installed package can be loaded from final location ** testing if installed package keeps a record of temporary installation path * DONE (SEraster)