Package: SETA Version: 0.99.6 Command: /home/biocbuild/R/R/bin/R CMD INSTALL SETA StartedAt: 2025-10-06 20:32:18 -0000 (Mon, 06 Oct 2025) EndedAt: 2025-10-06 20:32:49 -0000 (Mon, 06 Oct 2025) EllapsedTime: 31.2 seconds RetCode: 0 Status: OK