Package: SETA Version: 0.99.6 Command: /home/biocbuild/R/R/bin/R CMD check --install=check:SETA.install-out.txt --library=/home/biocbuild/R/R/site-library --no-vignettes --timings SETA_0.99.6.tar.gz StartedAt: 2025-10-07 12:07:08 -0000 (Tue, 07 Oct 2025) EndedAt: 2025-10-07 12:10:56 -0000 (Tue, 07 Oct 2025) EllapsedTime: 228.3 seconds RetCode: 0 Status: OK CheckDir: SETA.Rcheck Warnings: 0