Package: SETA Version: 0.99.6 Command: /Library/Frameworks/R.framework/Resources/bin/R CMD build --keep-empty-dirs --no-resave-data SETA StartedAt: 2025-10-03 19:00:58 -0400 (Fri, 03 Oct 2025) EndedAt: 2025-10-03 19:02:49 -0400 (Fri, 03 Oct 2025) EllapsedTime: 110.9 seconds RetCode: 0 Status: OK PackageFile: SETA_0.99.6.tar.gz PackageFileSize: 4.924 MiB