Package: SETA Version: 0.99.6 Command: /Library/Frameworks/R.framework/Resources/bin/R CMD INSTALL SETA StartedAt: 2025-10-03 15:12:29 -0400 (Fri, 03 Oct 2025) EndedAt: 2025-10-03 15:12:38 -0400 (Fri, 03 Oct 2025) EllapsedTime: 9.7 seconds RetCode: 0 Status: OK