Package: SETA Version: 0.99.6 Command: /Library/Frameworks/R.framework/Resources/bin/R CMD check --install=check:SETA.install-out.txt --library=/Library/Frameworks/R.framework/Resources/library --no-vignettes --timings SETA_0.99.6.tar.gz StartedAt: 2025-10-05 21:45:55 -0400 (Sun, 05 Oct 2025) EndedAt: 2025-10-05 21:47:08 -0400 (Sun, 05 Oct 2025) EllapsedTime: 72.9 seconds RetCode: 0 Status: OK CheckDir: SETA.Rcheck Warnings: 0