Package: SELEX Version: 1.41.0 Command: /home/biocbuild/R/R/bin/R CMD build --keep-empty-dirs --no-resave-data SELEX StartedAt: 2025-07-01 02:54:09 -0000 (Tue, 01 Jul 2025) EndedAt: 2025-07-01 02:54:48 -0000 (Tue, 01 Jul 2025) EllapsedTime: 39.1 seconds RetCode: 0 Status: OK PackageFile: SELEX_1.41.0.tar.gz PackageFileSize: 4.026 MiB