Package: SELEX Version: 1.41.0 Command: F:\biocbuild\bbs-3.22-bioc\R\bin\R.exe CMD INSTALL SELEX StartedAt: 2025-07-14 15:49:52 -0400 (Mon, 14 Jul 2025) EndedAt: 2025-07-14 15:50:19 -0400 (Mon, 14 Jul 2025) EllapsedTime: 26.5 seconds RetCode: 0 Status: OK