Package: SELEX Version: 1.41.0 Command: F:\biocbuild\bbs-3.22-bioc\R\bin\R.exe CMD check --no-multiarch --install=check:SELEX.install-out.txt --library=F:\biocbuild\bbs-3.22-bioc\R\library --no-vignettes --timings SELEX_1.41.0.tar.gz StartedAt: 2025-07-15 06:27:35 -0400 (Tue, 15 Jul 2025) EndedAt: 2025-07-15 06:29:49 -0400 (Tue, 15 Jul 2025) EllapsedTime: 133.3 seconds RetCode: 0 Status: OK CheckDir: SELEX.Rcheck Warnings: 0