Package: SDAMS Version: 1.29.0 Command: /home/biocbuild/R/R/bin/R CMD INSTALL SDAMS StartedAt: 2025-06-26 20:46:37 -0000 (Thu, 26 Jun 2025) EndedAt: 2025-06-26 20:47:14 -0000 (Thu, 26 Jun 2025) EllapsedTime: 36.5 seconds RetCode: 0 Status: OK