Package: SDAMS Version: 1.29.0 Command: /home/biocbuild/R/R/bin/R CMD check --install=check:SDAMS.install-out.txt --library=/home/biocbuild/R/R/site-library --no-vignettes --timings SDAMS_1.29.0.tar.gz StartedAt: 2025-06-27 11:18:23 -0000 (Fri, 27 Jun 2025) EndedAt: 2025-06-27 11:22:49 -0000 (Fri, 27 Jun 2025) EllapsedTime: 266.4 seconds RetCode: 0 Status: OK CheckDir: SDAMS.Rcheck Warnings: 0