Package: SDAMS Version: 1.29.0 Command: /home/biocbuild/R/R/bin/R CMD build --keep-empty-dirs --no-resave-data SDAMS StartedAt: 2025-06-27 02:39:59 -0000 (Fri, 27 Jun 2025) EndedAt: 2025-06-27 02:41:05 -0000 (Fri, 27 Jun 2025) EllapsedTime: 66.1 seconds RetCode: 0 Status: OK PackageFile: SDAMS_1.29.0.tar.gz PackageFileSize: 1.269 MiB