Package: SDAMS Version: 1.29.0 Command: /home/biocbuild/bbs-3.22-bioc/R/bin/R CMD INSTALL SDAMS StartedAt: 2025-10-06 15:31:23 -0400 (Mon, 06 Oct 2025) EndedAt: 2025-10-06 15:31:52 -0400 (Mon, 06 Oct 2025) EllapsedTime: 28.5 seconds RetCode: 0 Status: OK