Package: SDAMS Version: 1.29.0 Command: /home/biocbuild/bbs-3.22-bioc/R/bin/R CMD check --install=check:SDAMS.install-out.txt --library=/home/biocbuild/bbs-3.22-bioc/R/site-library --timings SDAMS_1.29.0.tar.gz StartedAt: 2025-10-07 04:12:56 -0400 (Tue, 07 Oct 2025) EndedAt: 2025-10-07 04:16:58 -0400 (Tue, 07 Oct 2025) EllapsedTime: 242.2 seconds RetCode: 0 Status: OK CheckDir: SDAMS.Rcheck Warnings: 0