Package: SDAMS Version: 1.29.0 Command: /home/biocbuild/bbs-3.22-bioc/R/bin/R CMD build --keep-empty-dirs --no-resave-data --md5 SDAMS StartedAt: 2025-10-06 19:58:35 -0400 (Mon, 06 Oct 2025) EndedAt: 2025-10-06 19:59:28 -0400 (Mon, 06 Oct 2025) EllapsedTime: 53.1 seconds RetCode: 0 Status: OK PackageFile: SDAMS_1.29.0.tar.gz PackageFileSize: 1.283 MiB