Package: SCnorm Version: 1.31.1 Command: /Library/Frameworks/R.framework/Resources/bin/R CMD INSTALL SCnorm StartedAt: 2025-07-11 15:28:04 -0400 (Fri, 11 Jul 2025) EndedAt: 2025-07-11 15:28:42 -0400 (Fri, 11 Jul 2025) EllapsedTime: 38.0 seconds RetCode: 0 Status: OK