Package: SCnorm Version: 1.31.1 Command: /Library/Frameworks/R.framework/Resources/bin/R CMD build --keep-empty-dirs --no-resave-data SCnorm StartedAt: 2025-07-11 18:24:15 -0400 (Fri, 11 Jul 2025) EndedAt: 2025-07-11 18:26:16 -0400 (Fri, 11 Jul 2025) EllapsedTime: 121.2 seconds RetCode: 0 Status: OK PackageFile: SCnorm_1.31.1.tar.gz PackageFileSize: 2.975 MiB