Package: SCOPE Version: 1.21.0 Command: /Library/Frameworks/R.framework/Resources/bin/R CMD check --install=check:SCOPE.install-out.txt --library=/Library/Frameworks/R.framework/Resources/library --no-vignettes --timings SCOPE_1.21.0.tar.gz StartedAt: 2025-07-22 21:22:33 -0400 (Tue, 22 Jul 2025) EndedAt: 2025-07-22 21:24:49 -0400 (Tue, 22 Jul 2025) EllapsedTime: 135.8 seconds RetCode: 0 Status: OK CheckDir: SCOPE.Rcheck Warnings: 0