Package: SCFA Version: 1.19.0 Command: /home/biocbuild/R/R/bin/R CMD INSTALL SCFA StartedAt: 2025-07-14 20:17:46 -0000 (Mon, 14 Jul 2025) EndedAt: 2025-07-14 20:18:17 -0000 (Mon, 14 Jul 2025) EllapsedTime: 30.9 seconds RetCode: 0 Status: OK