Package: SCFA Version: 1.19.0 Command: F:\biocbuild\bbs-3.22-bioc\R\bin\R.exe CMD INSTALL SCFA StartedAt: 2025-07-22 16:32:46 -0400 (Tue, 22 Jul 2025) EndedAt: 2025-07-22 16:33:08 -0400 (Tue, 22 Jul 2025) EllapsedTime: 22.2 seconds RetCode: 0 Status: OK