Package: SCFA Version: 1.19.0 Command: rm -rf SCFA.buildbin-libdir && mkdir SCFA.buildbin-libdir && F:\biocbuild\bbs-3.22-bioc\R\bin\R.exe CMD INSTALL --build --library=SCFA.buildbin-libdir SCFA_1.19.0.tar.gz StartedAt: 2025-07-23 10:05:18 -0400 (Wed, 23 Jul 2025) EndedAt: 2025-07-23 10:05:38 -0400 (Wed, 23 Jul 2025) EllapsedTime: 20.4 seconds RetCode: 0 Status: OK PackageFile: SCFA_1.19.0.zip PackageFileSize: 1.405 MiB