Package: SCFA Version: 1.19.0 Command: rm -rf SCFA.buildbin-libdir && mkdir SCFA.buildbin-libdir && /Users/biocbuild/BBS/utils/build-universal.sh SCFA_1.19.0.tar.gz /Library/Frameworks/R.framework/Resources/bin/R SCFA.buildbin-libdir StartedAt: 2025-07-21 01:24:38 -0400 (Mon, 21 Jul 2025) EndedAt: 2025-07-21 01:24:56 -0400 (Mon, 21 Jul 2025) EllapsedTime: 18.4 seconds RetCode: 0 Status: OK PackageFile: SCFA_1.19.0.tgz PackageFileSize: 1.401 MiB