Package: SCFA Version: 1.19.0 Command: /Library/Frameworks/R.framework/Resources/bin/R CMD INSTALL SCFA StartedAt: 2025-07-07 15:04:09 -0400 (Mon, 07 Jul 2025) EndedAt: 2025-07-07 15:04:16 -0400 (Mon, 07 Jul 2025) EllapsedTime: 7.2 seconds RetCode: 0 Status: OK