Package: SCFA Version: 1.19.0 Command: /Library/Frameworks/R.framework/Resources/bin/R CMD build --keep-empty-dirs --no-resave-data SCFA StartedAt: 2025-07-07 17:27:06 -0400 (Mon, 07 Jul 2025) EndedAt: 2025-07-07 17:28:21 -0400 (Mon, 07 Jul 2025) EllapsedTime: 74.9 seconds RetCode: 0 Status: OK PackageFile: SCFA_1.19.0.tar.gz PackageFileSize: 1.24 MiB