Package: SCFA Version: 1.19.0 Command: rm -rf SCFA.buildbin-libdir && mkdir SCFA.buildbin-libdir && /Users/biocbuild/BBS/utils/build-universal.sh SCFA_1.19.0.tar.gz /Library/Frameworks/R.framework/Resources/bin/R SCFA.buildbin-libdir StartedAt: 2025-07-07 22:31:38 -0400 (Mon, 07 Jul 2025) EndedAt: 2025-07-07 22:31:43 -0400 (Mon, 07 Jul 2025) EllapsedTime: 5.1 seconds RetCode: 0 Status: OK PackageFile: SCFA_1.19.0.tgz PackageFileSize: 1.402 MiB