Package: SCBN Version: 1.27.0 Command: F:\biocbuild\bbs-3.22-bioc\R\bin\R.exe CMD check --no-multiarch --install=check:SCBN.install-out.txt --library=F:\biocbuild\bbs-3.22-bioc\R\library --no-vignettes --timings SCBN_1.27.0.tar.gz StartedAt: 2025-08-15 07:29:42 -0400 (Fri, 15 Aug 2025) EndedAt: 2025-08-15 07:32:10 -0400 (Fri, 15 Aug 2025) EllapsedTime: 147.3 seconds RetCode: 0 Status: OK CheckDir: SCBN.Rcheck Warnings: 0